BEGIN:VCALENDAR
PRODID:-//AT Content Types//AT Event//EN
VERSION:1.0
BEGIN:VEVENT
DTSTART:20210927T190000Z
DTEND:20210927T200000Z
DCREATED:20210922T125040Z
UID:ATEvent-91405363dc0149fca34407db3b58e630
SEQUENCE:0
LAST-MODIFIED:20210922T125102Z
SUMMARY:Creating space for science-based collaborative solutions
DESCRIPTION:In-person & virtual Talk: Rendezvous for Sustainability
LOCATION:107 Norman Smith Hall\, UMaine.
PRIORITY:3
TRANSP:0
END:VEVENT
END:VCALENDAR
