BEGIN:VCALENDAR
PRODID:-//AT Content Types//AT Event//EN
VERSION:2.0
METHOD:PUBLISH
BEGIN:VEVENT
DTSTAMP:20161115T070807Z
CREATED:20160505T195657Z
UID:ATEvent-10889338dd904a55b6f1c77b6710af04
LAST-MODIFIED:20160505T200415Z
SUMMARY:Endangered Species Day
DTSTART:20160507T150000Z
DTEND:20160507T170000Z
DESCRIPTION:Staff from NOAA Fisheries Service\, U.S. Fish and Wildlife
  Service\, and The Endangered Species Coalition will provide a variety
  of family-oriented activities and art projects to highlight the recov
 ery of endangered species in Maine. Children’s activities will inclu
 de endangered species crafts and a salmon migration game. This event i
 s one of many that will be occurring in downtown Bangor as a part of K
 id Central Fest 2016. Admission is free and open to the public.
LOCATION:Bangor Public Library
CONTACT:Sarah Bailey\, 2078667262\, sarah.bailey@noaa.gov
CLASS:PUBLIC
END:VEVENT
END:VCALENDAR
