BEGIN:VCALENDAR
PRODID:-//AT Content Types//AT Event//EN
VERSION:1.0
BEGIN:VEVENT
DTSTART:20180530T140000Z
DTEND:20180530T183000Z
DCREATED:20180515T132906Z
UID:ATEvent-e82f651e87dc4f0386233141d3f7f922
SEQUENCE:0
LAST-MODIFIED:20180515T135155Z
SUMMARY:FREE NRCS - Audubon  Stream Smart Workshop
DESCRIPTION:A free technical training workshop with information on res
 ources for landowners will be held May 30th at the Milo Town Offices i
 n Milo\, Maine. Topics To Be Covered Include:\n\n* Importance of strea
 m connectivity and fish habitat\n* Installation of environmentally fri
 endly road/stream crossings\n* NRCS Regional Conservation Partnership 
 Program\n\nInformation on programs to provide technical and financial 
 assistance available
LOCATION:Milo Town Hall 6 Pleasant St. Milo\, ME 04463
PRIORITY:3
TRANSP:0
END:VEVENT
END:VCALENDAR
