BEGIN:VCALENDAR
PRODID:-//AT Content Types//AT Event//EN
VERSION:2.0
METHOD:PUBLISH
BEGIN:VEVENT
DTSTAMP:20161115T053518Z
CREATED:20160411T170459Z
UID:ATEvent-689b4ee2cfef410d927ac3aeafc5cfbf
LAST-MODIFIED:20160411T170635Z
SUMMARY:Public Informational Meeting on the Draft Atlantic Salmon Recovery Plan (Waterville)
DTSTART:20160420T223000Z
DTEND:20160421T003000Z
DESCRIPTION:Public informational meeting on the Draft Recovery Plan fo
 r Atlantic salmon\, written comments will be accepted as well.
LOCATION:Best Western Plus 375 Main St\, Exit 130. Waterville\, ME
CONTACT:Dan Kircheis \, dan.kircheis@noaa.gov
CLASS:PUBLIC
END:VEVENT
END:VCALENDAR
