BEGIN:VCALENDAR
PRODID:-//AT Content Types//AT Event//EN
VERSION:2.0
METHOD:PUBLISH
BEGIN:VEVENT
DTSTAMP:20210507T140510Z
CREATED:20190513T130132Z
UID:ATEvent-ad5f534945d0421c8c86abc5e15bf333
LAST-MODIFIED:20190513T130303Z
SUMMARY:RIVER CAMP!
DTSTART:20190721T090000Z
DTEND:20190802T170000Z
DESCRIPTION:A two week summer experience for teens interested in outdo
 or careers.
LOCATION:Washington County\, ME
CONTACT:Michael Giudilli \, 207-733-2233 ext 320\, michael@thecclc.org
URL:https://www.thecclc.org/rivercamp
CLASS:PUBLIC
END:VEVENT
END:VCALENDAR
