BEGIN:VCALENDAR
PRODID:-//AT Content Types//AT Event//EN
VERSION:2.0
METHOD:PUBLISH
BEGIN:VEVENT
DTSTAMP:20220811T205252Z
CREATED:20130311T222432Z
UID:ATEvent-f56fed3c-22b1-4ffc-b0df-5e721874605c
LAST-MODIFIED:20130326T204747Z
SUMMARY:Integrating Stream Science Efforts across the North Atlantic and Appalachian LCC Regions
DTSTART:20130314T130000Z
DTEND:20130314T200000Z
DESCRIPTION:March 14\, 2013 - Meeting of stream science project invest
 igators of the North Atlantic and Appalachian LCCs and the Northeast C
 limate Science Center
LOCATION:U.S. Fish and Wildlife Service\, Northeast Regional Office\, Hadley\, MA
CONTACT:Scott Schwenk\, 413-253-8647\, william_schwenk@fws.gov
CLASS:PUBLIC
END:VEVENT
END:VCALENDAR
