BEGIN:VCALENDAR
PRODID:-//AT Content Types//AT Event//EN
VERSION:2.0
METHOD:PUBLISH
BEGIN:VEVENT
DTSTAMP:20221001T105515Z
CREATED:20150122T184434Z
UID:ATEvent-aad2d87a8ffe4920b61ae46f4ed4466c
LAST-MODIFIED:20150122T185107Z
SUMMARY:Webinar: Evaluating Habitat Classification and Mapping
DTSTART:20150211T203000Z
DTEND:20150211T213000Z
DESCRIPTION:In order to produce the best possible land-cover map for t
 he Northeast\, researchers review and compare four existing vegetation
  maps for the area.
LOCATION:Northeast Climate Science Center
URL:http://necsc.umass.edu/webinars/critical-evaluation-methods-and-outcomes-habitatecological-systems-classification-and-mapp
CLASS:PUBLIC
END:VEVENT
END:VCALENDAR
