BEGIN:VCALENDAR
PRODID:-//AT Content Types//AT Event//EN
VERSION:2.0
METHOD:PUBLISH
BEGIN:VEVENT
DTSTAMP:20221001T103439Z
CREATED:20121024T221848Z
UID:ATEvent-11d3ec85-7f23-4a3d-9afb-f63ad2f1d728
LAST-MODIFIED:20121025T155501Z
SUMMARY:Moving Forward with Landscape-scale Conservation:  Northeast Region Representative Species Workshops
DTSTART:20121024T120000Z
DTEND:20121024T200000Z
LOCATION:Turners Falls\, MA
CONTACT:Megan Nagel\, 413-253-8492\, megan_nagel@fws.gov
URL:http://www.fws.gov/northeast/science/rep_species_workshops.html
CLASS:PUBLIC
END:VEVENT
END:VCALENDAR
