BEGIN:VCALENDAR
PRODID:-//AT Content Types//AT Event//EN
VERSION:1.0
BEGIN:VEVENT
DTSTART:20130627T180000Z
DTEND:20130627T200000Z
DCREATED:20130618T123935Z
UID:ATEvent-1768dcb8-8006-4e83-af37-acce490add1d
SEQUENCE:0
LAST-MODIFIED:20130618T123944Z
SUMMARY:North Atlantic LCC Steering Committee Call
DESCRIPTION:North Atlantic LCC Steering Committee Call will take place
  from 2-4 p.m. on Thursday\, June 27
PRIORITY:3
TRANSP:0
END:VEVENT
END:VCALENDAR
