BEGIN:VCALENDAR
PRODID:-//AT Content Types//AT Event//EN
VERSION:2.0
METHOD:PUBLISH
BEGIN:VEVENT
DTSTAMP:20220925T225419Z
CREATED:20170717T181538Z
UID:ATEvent-c8359b5421ec4b33b716ce40ec60e0b9
LAST-MODIFIED:20170717T181554Z
SUMMARY:Encouraging Investments in Coastal Conservation
DTSTART:20170720T170000Z
DTEND:20170720T181500Z
DESCRIPTION:Learn about funding sources and financing mechanisms for c
 oastal resilience projects that include use of natural infrastructure 
 and nature-based approaches.
CLASS:PUBLIC
END:VEVENT
END:VCALENDAR
