BEGIN:VCALENDAR
PRODID:-//AT Content Types//AT Event//EN
VERSION:2.0
METHOD:PUBLISH
BEGIN:VEVENT
DTSTAMP:20210507T134701Z
CREATED:20160425T162442Z
UID:ATEvent-371e3c90e09f450a8258270109fe52b0
LAST-MODIFIED:20160425T162515Z
SUMMARY:Webinar: Case Studies on Building Climate Change Resilience into Your Land Protection Strategies
DTSTART:20160502T170000Z
DTEND:20160502T183000Z
DESCRIPTION:Does your land protection strategy consider climate change
 ? Explore case studies that show how four different conservation organ
 izations integrated climate resilience science into their respective c
 onservation plans in this webinar led by the Open Space Institute.
CLASS:PUBLIC
END:VEVENT
END:VCALENDAR
