BEGIN:VCALENDAR
PRODID:-//AT Content Types//AT Event//EN
VERSION:1.0
BEGIN:VEVENT
DTSTART:20170323T160000Z
DTEND:20170323T170000Z
DCREATED:20170225T173640Z
UID:ATEvent-c28e6313bb154ee2981217045ebab7c0
SEQUENCE:0
LAST-MODIFIED:20170306T182539Z
SUMMARY:Webinar: Habitat modifications to sandy beaches and tidal inlets
DESCRIPTION:Learn how the status and condition of sandy beach and tida
 l inlet habitats in 2015 compares to pre-Hurricane Sandy baseline cond
 itions from Maine to North Carolina.
LOCATION:US FWS Northeast Regional Office
PRIORITY:3
TRANSP:0
END:VEVENT
END:VCALENDAR
