BEGIN:VCALENDAR
PRODID:-//AT Content Types//AT Event//EN
VERSION:1.0
BEGIN:VEVENT
DTSTART:20160202T183000Z
DTEND:20160202T200000Z
DCREATED:20160202T203654Z
UID:ATEvent-dce47ac2091c467cb834aca6b383e592
SEQUENCE:0
LAST-MODIFIED:20160202T203712Z
SUMMARY:Tidal Crossings Call
PRIORITY:3
TRANSP:0
END:VEVENT
END:VCALENDAR
